BEGIN:VCALENDAR
VERSION:2.0
PRODID:-//Styling by Samira - ECPv6.15.20//NONSGML v1.0//EN
CALSCALE:GREGORIAN
METHOD:PUBLISH
X-WR-CALNAME:Styling by Samira
X-ORIGINAL-URL:http://stylingbysamira.com
X-WR-CALDESC:Events for Styling by Samira
REFRESH-INTERVAL;VALUE=DURATION:PT1H
X-Robots-Tag:noindex
X-PUBLISHED-TTL:PT1H
BEGIN:VTIMEZONE
TZID:UTC
BEGIN:STANDARD
TZOFFSETFROM:+0000
TZOFFSETTO:+0000
TZNAME:UTC
DTSTART:20190101T000000
END:STANDARD
END:VTIMEZONE
BEGIN:VEVENT
DTSTART;VALUE=DATE:20220614
DTEND;VALUE=DATE:20220615
DTSTAMP:20260420T132701
CREATED:20220614T194949Z
LAST-MODIFIED:20220614T195657Z
UID:203-1655164800-1655251199@stylingbysamira.com
SUMMARY:Frame of Mind Coaching
DESCRIPTION:Watch here\nhttps://www.frameofmindcoaching.com/the-frame-of-mind-coaching-podcast
URL:http://stylingbysamira.com/event/frame-of-mind-coaching/
LOCATION:Podcast with Kim Ades\, Podcast with Kim Ades
ATTACH;FMTTYPE=image/png:http://stylingbysamira.com/wp-content/uploads/2022/05/download-15.png
END:VEVENT
BEGIN:VEVENT
DTSTART;VALUE=DATE:20220512
DTEND;VALUE=DATE:20220513
DTSTAMP:20260420T132702
CREATED:20220614T195403Z
LAST-MODIFIED:20220615T184711Z
UID:211-1652313600-1652399999@stylingbysamira.com
SUMMARY:RBC Women of Influence
DESCRIPTION:Nominee for the RBC Women of Influence Canadian Women Entrepreneur Award
URL:http://stylingbysamira.com/event/rbc-women-of-influence/
ATTACH;FMTTYPE=image/png:http://stylingbysamira.com/wp-content/uploads/2022/06/Nomiee-Badge-E-Signature-ENGLISH.png
END:VEVENT
BEGIN:VEVENT
DTSTART;VALUE=DATE:20201022
DTEND;VALUE=DATE:20201023
DTSTAMP:20260420T132702
CREATED:20220614T195233Z
LAST-MODIFIED:20220614T195233Z
UID:208-1603324800-1603411199@stylingbysamira.com
SUMMARY:IICanada
DESCRIPTION:Featured in SheLeads program
URL:http://stylingbysamira.com/event/iicanada/
ATTACH;FMTTYPE=image/jpeg:http://stylingbysamira.com/wp-content/uploads/2022/06/pexels-andrea-piacquadio-3794129-scaled-e1655317551495.jpg
END:VEVENT
BEGIN:VEVENT
DTSTART;VALUE=DATE:20200521
DTEND;VALUE=DATE:20200522
DTSTAMP:20260420T132702
CREATED:20220614T194652Z
LAST-MODIFIED:20220614T194652Z
UID:197-1590019200-1590105599@stylingbysamira.com
SUMMARY:Employee to Entrepreneur Interview
DESCRIPTION:Mathematician and corporate employee who turned shopping into a full-time business. Want to hear how? \nJoin us in the Employee to Entrepreneur Society group to hear how Samira Walli turned her passion for finding a deal into her business on Friday\, May 22 at 11am.
URL:http://stylingbysamira.com/event/employee-to-entrepreneur-interview/
ATTACH;FMTTYPE=image/jpeg:http://stylingbysamira.com/wp-content/uploads/2022/06/99011132_10156902986872721_6569948633024692224_n.jpg
END:VEVENT
BEGIN:VEVENT
DTSTART;VALUE=DATE:20200226
DTEND;VALUE=DATE:20200227
DTSTAMP:20260420T132702
CREATED:20220614T194432Z
LAST-MODIFIED:20220615T184600Z
UID:193-1582675200-1582761599@stylingbysamira.com
SUMMARY:Getting more women into STEM careers
DESCRIPTION:I had the honor of being a panelist at #wisewednesdays sold out event at Brock University alongside some amazing and inspiring women. We talked about our STEM journey\, challenges we faced and gave advice on how to overcome obstacles. @enterprisingwomen sponsored the event and Nancy Watt of Nancy Watt Communications moderated the panel. Two high school Niagara girls will be chosen to represent Canada at the Enterprising Women conference in Florida in March.
URL:http://stylingbysamira.com/event/getting-more-women-into-stem-careers/
LOCATION:Brock University
ATTACH;FMTTYPE=image/jpeg:http://stylingbysamira.com/wp-content/uploads/2022/06/WiseWednesday-3-Feb-19-2020.jpeg
END:VEVENT
END:VCALENDAR